BEGIN:VCALENDAR
VERSION:2.0
PRODID:-//イルチブレインヨガ岐阜スタジオ - ECPv6.15.20//NONSGML v1.0//EN
CALSCALE:GREGORIAN
METHOD:PUBLISH
X-ORIGINAL-URL:https://ilchibrainyoga-gifu.com
X-WR-CALDESC:イルチブレインヨガ岐阜スタジオ のイベント
REFRESH-INTERVAL;VALUE=DURATION:PT1H
X-Robots-Tag:noindex
X-PUBLISHED-TTL:PT1H
BEGIN:VTIMEZONE
TZID:Asia/Tokyo
BEGIN:STANDARD
TZOFFSETFROM:+0900
TZOFFSETTO:+0900
TZNAME:JST
DTSTART:20250101T000000
END:STANDARD
END:VTIMEZONE
BEGIN:VEVENT
DTSTART;TZID=Asia/Tokyo:20260411T133000
DTEND;TZID=Asia/Tokyo:20260411T153000
DTSTAMP:20260423T032619
CREATED:20260310T013500Z
LAST-MODIFIED:20260405T152502Z
UID:6773-1775914200-1775921400@ilchibrainyoga-gifu.com
SUMMARY:春から始める！生活気功 “アリラン気功”体験会
DESCRIPTION:ブレイン体操、呼吸瞑想、アリラン気功\n開催日：4月11日（土）\n時間：12:30〜14:30\n会場名：みんなの森ぎふメデイアコスモス　おどるスタジオ\n会場住所：岐阜市司町40番地5\n参加費：1\,000円\nトレーナー：小石民代\n持ち物：動ける服装、水、タオル \nお問合せ・ご予約はお電話でも承ります。\n☎058-266-7270（小石） \n\nLINEからのお申し込みはこちら⇒https://lin.ee/A7dXgIv \n\n\n  \n\n\n\n\n\n \n体験ご希望日時\n		(必須)　※ご注意：月曜日は定休日です\n		\n \n—以下から選択してください—10111213141516171819時 —以下から選択してください—001020304050分 ～ のクラス\n \nお名前\n		 (必須)\n		\n \n\n \nメールアドレス\n		 (必須)\n		\n \n\n \nお電話番号（携帯可）\n		 (必須)\n		\n \n\n \nこちらのスタジオを何でお知りになりましたか？\n		 (必須)\n		\n \nチラシ看板書籍雑誌紹介Yahoo検索Google検索口コミその他Webサイト\n \nご関心があること、習得したいこと（複数可）\n \n自然治癒力アップ集中力アップダイエット体質改善ストレス緩和丹田強化呼吸法瞑想法リラックス運動不足解消姿勢がよくなりたいその他（備考欄にご記入ください）\n \n備考欄\n \n\n \n\n\n \n\n Δ \n\n\n\n株式会社DAHN WORLD JAPAN
URL:https://ilchibrainyoga-gifu.com/event/gifu-47/
LOCATION:みんなの森ぎふメデイアコスモス　おどるスタジオ\, 岐阜市司町40番地5
ATTACH;FMTTYPE=image/jpeg:https://ilchibrainyoga-gifu.com/wp-content/uploads/2026/03/3a1f3135bf6190c9da6c06b78543ae05-1.jpg
END:VEVENT
END:VCALENDAR