BEGIN:VCALENDAR
VERSION:2.0
PRODID:-//イルチブレインヨガ岐阜スタジオ - ECPv6.15.20//NONSGML v1.0//EN
CALSCALE:GREGORIAN
METHOD:PUBLISH
X-ORIGINAL-URL:https://ilchibrainyoga-gifu.com
X-WR-CALDESC:イルチブレインヨガ岐阜スタジオ のイベント
REFRESH-INTERVAL;VALUE=DURATION:PT1H
X-Robots-Tag:noindex
X-PUBLISHED-TTL:PT1H
BEGIN:VTIMEZONE
TZID:Asia/Tokyo
BEGIN:STANDARD
TZOFFSETFROM:+0900
TZOFFSETTO:+0900
TZNAME:JST
DTSTART:20240101T000000
END:STANDARD
END:VTIMEZONE
BEGIN:VEVENT
DTSTART;TZID=Asia/Tokyo:20250905T103000
DTEND;TZID=Asia/Tokyo:20250905T210000
DTSTAMP:20260423T224733
CREATED:20250905T015652Z
LAST-MODIFIED:20250905T015652Z
UID:6538-1757068200-1757106000@ilchibrainyoga-gifu.com
SUMMARY:＜腸ケアクラス＞
DESCRIPTION:呼吸の経験豊富なプロフェッショナルがお一人お一人丁寧にご案内します。\n猛暑が続き昨今、乱れがちな体調と心を腸と呼吸から整えましょう。\n体と心をほぐしてご自分の体が心の底から大切に思える、そんな体験におこしください。\n体験トレーニング70分は常時体験受付中ですが、腸と呼吸をより深く体感できる内容になっています。\n◎腸ケアクラス　毎週金曜日　朝クラス10:30〜12:00、昼クラス14:30〜16:00、夜クラス19:30〜21:00\n講師：小石民代先生\n参加費1\,500円\n♡LINEからご予約の場合500円引き！ \n場所：イルチブレインヨガ岐阜スタジオ\n岐阜県岐阜市長住町２丁目２ 岐阜都ビル 5階\n名鉄岐阜駅ロフトの向かい、1階の看板が目印、地下に降りて奥のエレベーターを5階にお上がりください。 \n★準備物：動きやすい服装、水、タオル、体験費\n問合せ電話：058-266-7270 \n\nLINEからのお申し込みはこちら⇒https://lin.ee/A7dXgIv \n\n\n  \n\n\n\n\n\n \n体験ご希望日時\n		(必須)　※ご注意：月曜日は定休日です\n		\n \n—以下から選択してください—10111213141516171819時 —以下から選択してください—001020304050分 ～ のクラス\n \nお名前\n		 (必須)\n		\n \n\n \nメールアドレス\n		 (必須)\n		\n \n\n \nお電話番号（携帯可）\n		 (必須)\n		\n \n\n \nこちらのスタジオを何でお知りになりましたか？\n		 (必須)\n		\n \nチラシ看板書籍雑誌紹介Yahoo検索Google検索口コミその他Webサイト\n \nご関心があること、習得したいこと（複数可）\n \n自然治癒力アップ集中力アップダイエット体質改善ストレス緩和丹田強化呼吸法瞑想法リラックス運動不足解消姿勢がよくなりたいその他（備考欄にご記入ください）\n \n備考欄\n \n\n \n\n\n \n\n Δ \n\n\n\n株式会社DAHN WORLD JAPAN
URL:https://ilchibrainyoga-gifu.com/event/gifu-20/
LOCATION:イルチブレイヨガ岐阜スタジオ\, 岐阜県岐阜市長住町2-2岐阜都ビル５階\, 岐阜市\, 岐阜県\, 500-8175\, Japan
ATTACH;FMTTYPE=image/jpeg:https://ilchibrainyoga-gifu.com/wp-content/uploads/2025/09/566189108f47563c78cc7359880dba5f.jpg
END:VEVENT
BEGIN:VEVENT
DTSTART;TZID=Asia/Tokyo:20250910T190000
DTEND;TZID=Asia/Tokyo:20250910T210000
DTSTAMP:20260423T224733
CREATED:20250905T015509Z
LAST-MODIFIED:20250905T015509Z
UID:6533-1757530800-1757538000@ilchibrainyoga-gifu.com
SUMMARY:＜呼吸クラス＞
DESCRIPTION:呼吸の経験豊富なプロフェッショナルがお一人お一人丁寧にご案内します。\n猛暑が続き昨今、乱れがちな体調と心を腸と呼吸から整えましょう。\n体と心をほぐしてご自分の体が心の底から大切に思える、そんな体験におこしください。\n体験トレーニング70分は常時体験受付中ですが、腸と呼吸をより深く体感できる内容になっています。 \n◎呼吸クラス　9月10日㈬19:00〜21:00、24日㈬19:00〜21:00\n講師：川崎幸子先生\n参加費1\,500円\n♡LINEからご予約の場合500円引き！ \n場所：イルチブレインヨガ岐阜スタジオ\n岐阜県岐阜市長住町２丁目２ 岐阜都ビル 5階\n名鉄岐阜駅ロフトの向かい、1階の看板が目印、地下に降りて奥のエレベーターを5階にお上がりください。 \n★準備物：動きやすい服装、水、タオル、体験費\n問合せ電話：058-266-7270 \n\nLINEからのお申し込みはこちら⇒https://lin.ee/A7dXgIv \n\n\n  \n\n\n\n\n\n \n体験ご希望日時\n		(必須)　※ご注意：月曜日は定休日です\n		\n \n—以下から選択してください—10111213141516171819時 —以下から選択してください—001020304050分 ～ のクラス\n \nお名前\n		 (必須)\n		\n \n\n \nメールアドレス\n		 (必須)\n		\n \n\n \nお電話番号（携帯可）\n		 (必須)\n		\n \n\n \nこちらのスタジオを何でお知りになりましたか？\n		 (必須)\n		\n \nチラシ看板書籍雑誌紹介Yahoo検索Google検索口コミその他Webサイト\n \nご関心があること、習得したいこと（複数可）\n \n自然治癒力アップ集中力アップダイエット体質改善ストレス緩和丹田強化呼吸法瞑想法リラックス運動不足解消姿勢がよくなりたいその他（備考欄にご記入ください）\n \n備考欄\n \n\n \n\n\n \n\n Δ \n\n\n\n株式会社DAHN WORLD JAPAN
URL:https://ilchibrainyoga-gifu.com/event/gifu-18/
LOCATION:イルチブレイヨガ岐阜スタジオ\, 岐阜県岐阜市長住町2-2岐阜都ビル５階\, 岐阜市\, 岐阜県\, 500-8175\, Japan
ATTACH;FMTTYPE=image/jpeg:https://ilchibrainyoga-gifu.com/wp-content/uploads/2025/09/f09bec55d841305731e69e77b7693190.jpg
END:VEVENT
BEGIN:VEVENT
DTSTART;TZID=Asia/Tokyo:20250912T103000
DTEND;TZID=Asia/Tokyo:20250912T210000
DTSTAMP:20260423T224733
CREATED:20250905T015709Z
LAST-MODIFIED:20250905T015709Z
UID:6541-1757673000-1757710800@ilchibrainyoga-gifu.com
SUMMARY:＜腸ケアクラス＞
DESCRIPTION:呼吸の経験豊富なプロフェッショナルがお一人お一人丁寧にご案内します。\n猛暑が続き昨今、乱れがちな体調と心を腸と呼吸から整えましょう。\n体と心をほぐしてご自分の体が心の底から大切に思える、そんな体験におこしください。\n体験トレーニング70分は常時体験受付中ですが、腸と呼吸をより深く体感できる内容になっています。\n◎腸ケアクラス　毎週金曜日　朝クラス10:30〜12:00、昼クラス14:30〜16:00、夜クラス19:30〜21:00\n講師：小石民代先生\n参加費1\,500円\n♡LINEからご予約の場合500円引き！ \n場所：イルチブレインヨガ岐阜スタジオ\n岐阜県岐阜市長住町２丁目２ 岐阜都ビル 5階\n名鉄岐阜駅ロフトの向かい、1階の看板が目印、地下に降りて奥のエレベーターを5階にお上がりください。 \n★準備物：動きやすい服装、水、タオル、体験費\n問合せ電話：058-266-7270 \n\nLINEからのお申し込みはこちら⇒https://lin.ee/A7dXgIv \n\n\n  \n\n\n\n\n\n \n体験ご希望日時\n		(必須)　※ご注意：月曜日は定休日です\n		\n \n—以下から選択してください—10111213141516171819時 —以下から選択してください—001020304050分 ～ のクラス\n \nお名前\n		 (必須)\n		\n \n\n \nメールアドレス\n		 (必須)\n		\n \n\n \nお電話番号（携帯可）\n		 (必須)\n		\n \n\n \nこちらのスタジオを何でお知りになりましたか？\n		 (必須)\n		\n \nチラシ看板書籍雑誌紹介Yahoo検索Google検索口コミその他Webサイト\n \nご関心があること、習得したいこと（複数可）\n \n自然治癒力アップ集中力アップダイエット体質改善ストレス緩和丹田強化呼吸法瞑想法リラックス運動不足解消姿勢がよくなりたいその他（備考欄にご記入ください）\n \n備考欄\n \n\n \n\n\n \n\n Δ \n\n\n\n株式会社DAHN WORLD JAPAN
URL:https://ilchibrainyoga-gifu.com/event/gifu-21/
LOCATION:イルチブレイヨガ岐阜スタジオ\, 岐阜県岐阜市長住町2-2岐阜都ビル５階\, 岐阜市\, 岐阜県\, 500-8175\, Japan
ATTACH;FMTTYPE=image/jpeg:https://ilchibrainyoga-gifu.com/wp-content/uploads/2025/09/566189108f47563c78cc7359880dba5f.jpg
END:VEVENT
BEGIN:VEVENT
DTSTART;TZID=Asia/Tokyo:20250913T130000
DTEND;TZID=Asia/Tokyo:20250913T180000
DTSTAMP:20260423T224733
CREATED:20250905T020103Z
LAST-MODIFIED:20250905T020103Z
UID:6550-1757768400-1757786400@ilchibrainyoga-gifu.com
SUMMARY:＜9月の癒しマルシェ＞
DESCRIPTION:オーラ診断・陰陽五行・チャクラバランス・天符経タロット\n4つの占いからご自分の今を客観視して希望を見出すマルシェです。\nお一人1時間で占いとプチトレーニングで体と心をヒーリングします。\nご予約優先です。ご予約の際はご希望の時間帯をご記入ください。\n日時：9月13日㈯13:00〜18:00\n場所：イルチブレインヨガ岐阜\n岐阜県岐阜市長住町２丁目２ 岐阜都ビル 5階\n名鉄岐阜駅ロフトの向かい、1階の看板が目印、地下に降りて奥のエレベーターを5階にお上がりください。 \n参加費お一人2\,000円（保護者は無料）\n★準備物：動きやすい服装、水、タオル、体験費\n問合せ電話：058-266-7270 \n\nLINEからのお申し込みはこちら⇒https://lin.ee/A7dXgIv \n\n\n  \n\n\n\n\n\n \n体験ご希望日時\n		(必須)　※ご注意：月曜日は定休日です\n		\n \n—以下から選択してください—10111213141516171819時 —以下から選択してください—001020304050分 ～ のクラス\n \nお名前\n		 (必須)\n		\n \n\n \nメールアドレス\n		 (必須)\n		\n \n\n \nお電話番号（携帯可）\n		 (必須)\n		\n \n\n \nこちらのスタジオを何でお知りになりましたか？\n		 (必須)\n		\n \nチラシ看板書籍雑誌紹介Yahoo検索Google検索口コミその他Webサイト\n \nご関心があること、習得したいこと（複数可）\n \n自然治癒力アップ集中力アップダイエット体質改善ストレス緩和丹田強化呼吸法瞑想法リラックス運動不足解消姿勢がよくなりたいその他（備考欄にご記入ください）\n \n備考欄\n \n\n \n\n\n \n\n Δ \n\n\n\n株式会社DAHN WORLD JAPAN
URL:https://ilchibrainyoga-gifu.com/event/gifu-25/
LOCATION:イルチブレイヨガ岐阜スタジオ\, 岐阜県岐阜市長住町2-2岐阜都ビル５階\, 岐阜市\, 岐阜県\, 500-8175\, Japan
ATTACH;FMTTYPE=image/jpeg:https://ilchibrainyoga-gifu.com/wp-content/uploads/2025/09/8033af0de20a733bb4a7d727795182bd.jpg
END:VEVENT
BEGIN:VEVENT
DTSTART;TZID=Asia/Tokyo:20250919T103000
DTEND;TZID=Asia/Tokyo:20250919T210000
DTSTAMP:20260423T224733
CREATED:20250905T015722Z
LAST-MODIFIED:20250905T015722Z
UID:6543-1758277800-1758315600@ilchibrainyoga-gifu.com
SUMMARY:＜腸ケアクラス＞
DESCRIPTION:呼吸の経験豊富なプロフェッショナルがお一人お一人丁寧にご案内します。\n猛暑が続き昨今、乱れがちな体調と心を腸と呼吸から整えましょう。\n体と心をほぐしてご自分の体が心の底から大切に思える、そんな体験におこしください。\n体験トレーニング70分は常時体験受付中ですが、腸と呼吸をより深く体感できる内容になっています。\n◎腸ケアクラス　毎週金曜日　朝クラス10:30〜12:00、昼クラス14:30〜16:00、夜クラス19:30〜21:00\n講師：小石民代先生\n参加費1\,500円\n♡LINEからご予約の場合500円引き！ \n場所：イルチブレインヨガ岐阜スタジオ\n岐阜県岐阜市長住町２丁目２ 岐阜都ビル 5階\n名鉄岐阜駅ロフトの向かい、1階の看板が目印、地下に降りて奥のエレベーターを5階にお上がりください。 \n★準備物：動きやすい服装、水、タオル、体験費\n問合せ電話：058-266-7270 \n\nLINEからのお申し込みはこちら⇒https://lin.ee/A7dXgIv \n\n\n  \n\n\n\n\n\n \n体験ご希望日時\n		(必須)　※ご注意：月曜日は定休日です\n		\n \n—以下から選択してください—10111213141516171819時 —以下から選択してください—001020304050分 ～ のクラス\n \nお名前\n		 (必須)\n		\n \n\n \nメールアドレス\n		 (必須)\n		\n \n\n \nお電話番号（携帯可）\n		 (必須)\n		\n \n\n \nこちらのスタジオを何でお知りになりましたか？\n		 (必須)\n		\n \nチラシ看板書籍雑誌紹介Yahoo検索Google検索口コミその他Webサイト\n \nご関心があること、習得したいこと（複数可）\n \n自然治癒力アップ集中力アップダイエット体質改善ストレス緩和丹田強化呼吸法瞑想法リラックス運動不足解消姿勢がよくなりたいその他（備考欄にご記入ください）\n \n備考欄\n \n\n \n\n\n \n\n Δ \n\n\n\n株式会社DAHN WORLD JAPAN
URL:https://ilchibrainyoga-gifu.com/event/gifu-22/
LOCATION:イルチブレイヨガ岐阜スタジオ\, 岐阜県岐阜市長住町2-2岐阜都ビル５階\, 岐阜市\, 岐阜県\, 500-8175\, Japan
ATTACH;FMTTYPE=image/jpeg:https://ilchibrainyoga-gifu.com/wp-content/uploads/2025/09/566189108f47563c78cc7359880dba5f.jpg
END:VEVENT
BEGIN:VEVENT
DTSTART;TZID=Asia/Tokyo:20250920T140000
DTEND;TZID=Asia/Tokyo:20250920T160000
DTSTAMP:20260423T224733
CREATED:20250905T015912Z
LAST-MODIFIED:20250905T015912Z
UID:6547-1758376800-1758384000@ilchibrainyoga-gifu.com
SUMMARY:＜YECOキャンプ体験会&説明会＞
DESCRIPTION:若い世代が全国から伊勢に集結、希望を見つける3日間キャンプの説明会です。\nキャンプの対象者は18歳から45歳までの独身者。\n説明会には保護者の同伴も可能です。\n日時：9月20日㈯14:00〜16:00\n場所：イルチブレインヨガ岐阜\n岐阜県岐阜市長住町２丁目２ 岐阜都ビル 5階\n名鉄岐阜駅ロフトの向かい、1階の看板が目印、地下に降りて奥のエレベーターを5階にお上がりください。 \n参加費お一人1\,500円（保護者は無料）\n♡LINEからご予約の場合500円引き！\n★準備物：動きやすい服装、水、タオル、体験費\n問合せ電話：058-266-7270 \n\nLINEからのお申し込みはこちら⇒https://lin.ee/A7dXgIv \n\n\n  \n\n\n\n\n\n \n体験ご希望日時\n		(必須)　※ご注意：月曜日は定休日です\n		\n \n—以下から選択してください—10111213141516171819時 —以下から選択してください—001020304050分 ～ のクラス\n \nお名前\n		 (必須)\n		\n \n\n \nメールアドレス\n		 (必須)\n		\n \n\n \nお電話番号（携帯可）\n		 (必須)\n		\n \n\n \nこちらのスタジオを何でお知りになりましたか？\n		 (必須)\n		\n \nチラシ看板書籍雑誌紹介Yahoo検索Google検索口コミその他Webサイト\n \nご関心があること、習得したいこと（複数可）\n \n自然治癒力アップ集中力アップダイエット体質改善ストレス緩和丹田強化呼吸法瞑想法リラックス運動不足解消姿勢がよくなりたいその他（備考欄にご記入ください）\n \n備考欄\n \n\n \n\n\n \n\n Δ \n\n\n\n株式会社DAHN WORLD JAPAN
URL:https://ilchibrainyoga-gifu.com/event/gifu-24/
LOCATION:イルチブレイヨガ岐阜スタジオ\, 岐阜県岐阜市長住町2-2岐阜都ビル５階\, 岐阜市\, 岐阜県\, 500-8175\, Japan
ATTACH;FMTTYPE=image/jpeg:https://ilchibrainyoga-gifu.com/wp-content/uploads/2025/09/ef9886ab1cd39469472a1126855c2ed7.jpg
END:VEVENT
BEGIN:VEVENT
DTSTART;TZID=Asia/Tokyo:20250924T190000
DTEND;TZID=Asia/Tokyo:20250924T210000
DTSTAMP:20260423T224733
CREATED:20250905T015530Z
LAST-MODIFIED:20250905T015530Z
UID:6536-1758740400-1758747600@ilchibrainyoga-gifu.com
SUMMARY:＜呼吸クラス＞
DESCRIPTION:呼吸の経験豊富なプロフェッショナルがお一人お一人丁寧にご案内します。\n猛暑が続き昨今、乱れがちな体調と心を腸と呼吸から整えましょう。\n体と心をほぐしてご自分の体が心の底から大切に思える、そんな体験におこしください。\n体験トレーニング70分は常時体験受付中ですが、腸と呼吸をより深く体感できる内容になっています。 \n◎呼吸クラス　9月24日㈬19:00〜21:00\n講師：川崎幸子先生\n参加費1\,500円\n♡LINEからご予約の場合500円引き！ \n場所：イルチブレインヨガ岐阜スタジオ\n岐阜県岐阜市長住町２丁目２ 岐阜都ビル 5階\n名鉄岐阜駅ロフトの向かい、1階の看板が目印、地下に降りて奥のエレベーターを5階にお上がりください。 \n★準備物：動きやすい服装、水、タオル、体験費\n問合せ電話：058-266-7270 \n\nLINEからのお申し込みはこちら⇒https://lin.ee/A7dXgIv \n\n\n  \n\n\n\n\n\n \n体験ご希望日時\n		(必須)　※ご注意：月曜日は定休日です\n		\n \n—以下から選択してください—10111213141516171819時 —以下から選択してください—001020304050分 ～ のクラス\n \nお名前\n		 (必須)\n		\n \n\n \nメールアドレス\n		 (必須)\n		\n \n\n \nお電話番号（携帯可）\n		 (必須)\n		\n \n\n \nこちらのスタジオを何でお知りになりましたか？\n		 (必須)\n		\n \nチラシ看板書籍雑誌紹介Yahoo検索Google検索口コミその他Webサイト\n \nご関心があること、習得したいこと（複数可）\n \n自然治癒力アップ集中力アップダイエット体質改善ストレス緩和丹田強化呼吸法瞑想法リラックス運動不足解消姿勢がよくなりたいその他（備考欄にご記入ください）\n \n備考欄\n \n\n \n\n\n \n\n Δ \n\n\n\n株式会社DAHN WORLD JAPAN
URL:https://ilchibrainyoga-gifu.com/event/gifu-19/
LOCATION:イルチブレイヨガ岐阜スタジオ\, 岐阜県岐阜市長住町2-2岐阜都ビル５階\, 岐阜市\, 岐阜県\, 500-8175\, Japan
ATTACH;FMTTYPE=image/jpeg:https://ilchibrainyoga-gifu.com/wp-content/uploads/2025/09/f09bec55d841305731e69e77b7693190.jpg
END:VEVENT
BEGIN:VEVENT
DTSTART;TZID=Asia/Tokyo:20250926T103000
DTEND;TZID=Asia/Tokyo:20250926T210000
DTSTAMP:20260423T224733
CREATED:20250905T015746Z
LAST-MODIFIED:20250905T015746Z
UID:6545-1758882600-1758920400@ilchibrainyoga-gifu.com
SUMMARY:＜腸ケアクラス＞
DESCRIPTION:呼吸の経験豊富なプロフェッショナルがお一人お一人丁寧にご案内します。\n猛暑が続き昨今、乱れがちな体調と心を腸と呼吸から整えましょう。\n体と心をほぐしてご自分の体が心の底から大切に思える、そんな体験におこしください。\n体験トレーニング70分は常時体験受付中ですが、腸と呼吸をより深く体感できる内容になっています。\n◎腸ケアクラス　毎週金曜日　朝クラス10:30〜12:00、昼クラス14:30〜16:00、夜クラス19:30〜21:00\n講師：小石民代先生\n参加費1\,500円\n♡LINEからご予約の場合500円引き！ \n場所：イルチブレインヨガ岐阜スタジオ\n岐阜県岐阜市長住町２丁目２ 岐阜都ビル 5階\n名鉄岐阜駅ロフトの向かい、1階の看板が目印、地下に降りて奥のエレベーターを5階にお上がりください。 \n★準備物：動きやすい服装、水、タオル、体験費\n問合せ電話：058-266-7270 \n\nLINEからのお申し込みはこちら⇒https://lin.ee/A7dXgIv \n\n\n  \n\n\n\n\n\n \n体験ご希望日時\n		(必須)　※ご注意：月曜日は定休日です\n		\n \n—以下から選択してください—10111213141516171819時 —以下から選択してください—001020304050分 ～ のクラス\n \nお名前\n		 (必須)\n		\n \n\n \nメールアドレス\n		 (必須)\n		\n \n\n \nお電話番号（携帯可）\n		 (必須)\n		\n \n\n \nこちらのスタジオを何でお知りになりましたか？\n		 (必須)\n		\n \nチラシ看板書籍雑誌紹介Yahoo検索Google検索口コミその他Webサイト\n \nご関心があること、習得したいこと（複数可）\n \n自然治癒力アップ集中力アップダイエット体質改善ストレス緩和丹田強化呼吸法瞑想法リラックス運動不足解消姿勢がよくなりたいその他（備考欄にご記入ください）\n \n備考欄\n \n\n \n\n\n \n\n Δ \n\n\n\n株式会社DAHN WORLD JAPAN
URL:https://ilchibrainyoga-gifu.com/event/gifu-23/
LOCATION:イルチブレイヨガ岐阜スタジオ\, 岐阜県岐阜市長住町2-2岐阜都ビル５階\, 岐阜市\, 岐阜県\, 500-8175\, Japan
ATTACH;FMTTYPE=image/jpeg:https://ilchibrainyoga-gifu.com/wp-content/uploads/2025/09/566189108f47563c78cc7359880dba5f.jpg
END:VEVENT
END:VCALENDAR